BEGIN:VCALENDAR
VERSION:2.0
PRODID:-//SCBC - ECPv6.15.20//NONSGML v1.0//EN
CALSCALE:GREGORIAN
METHOD:PUBLISH
X-WR-CALNAME:SCBC
X-ORIGINAL-URL:https://scbc.de
X-WR-CALDESC:Veranstaltungen für SCBC
REFRESH-INTERVAL;VALUE=DURATION:PT1H
X-Robots-Tag:noindex
X-PUBLISHED-TTL:PT1H
BEGIN:VTIMEZONE
TZID:Europe/Berlin
BEGIN:DAYLIGHT
TZOFFSETFROM:+0100
TZOFFSETTO:+0200
TZNAME:CEST
DTSTART:20250330T010000
END:DAYLIGHT
BEGIN:STANDARD
TZOFFSETFROM:+0200
TZOFFSETTO:+0100
TZNAME:CET
DTSTART:20251026T010000
END:STANDARD
BEGIN:DAYLIGHT
TZOFFSETFROM:+0100
TZOFFSETTO:+0200
TZNAME:CEST
DTSTART:20260329T010000
END:DAYLIGHT
BEGIN:STANDARD
TZOFFSETFROM:+0200
TZOFFSETTO:+0100
TZNAME:CET
DTSTART:20261025T010000
END:STANDARD
BEGIN:DAYLIGHT
TZOFFSETFROM:+0100
TZOFFSETTO:+0200
TZNAME:CEST
DTSTART:20270328T010000
END:DAYLIGHT
BEGIN:STANDARD
TZOFFSETFROM:+0200
TZOFFSETTO:+0100
TZNAME:CET
DTSTART:20271031T010000
END:STANDARD
END:VTIMEZONE
BEGIN:VEVENT
DTSTART;TZID=Europe/Berlin:20260506T153000
DTEND;TZID=Europe/Berlin:20260506T180000
DTSTAMP:20260420T211033
CREATED:20251203T101758Z
LAST-MODIFIED:20260420T150822Z
UID:10000906-1778081400-1778090400@scbc.de
SUMMARY:Mittwochs-Training (Kinder & Jugendliche)
DESCRIPTION:Der Segel-Club Breitbrunn-Chiemsee (SCBC) e.V. veranstaltet jeden Mittwoch (in der Nebensaison jeden zweiten Mittwoch) ab 15:30 Uhr ein gemeinsames Training für Kinder und Jugendliche. Wir segeln mit großen und kleinen Schiffen\, gehen Segeltheorie und Knoten durch\, reparieren Schiffe\, machen gemeinsam Sport oder erleben andere tolle Dinge gemeinsam. Eine Anmeldung ist nicht erforderlich – kommt einfach vorbei! \nAchtung: Für das Mittwochs-Training ist eine SCBC Mitgliedschaft notwendig. \nSchnuppersegeln (für alle\, die noch nie dabei waren): Jeden ersten Mittwoch im Monat veranstalten wir ein “Schnuppersegeln”. Wir erklären und zeigen euch alles\, sodass ihr am kommenden Mittwoch mit der Gruppe mitfahren könnt. Sucht in unserem Kalender nach „Schnuppersegeln“ und meldet euch an. Wir freuen uns auf euch!
URL:https://scbc.de/event/mittwochs-training-kinder-jugendliche-2/2026-05-06/
LOCATION:Gemeindehafen Breitbrunn\, Segelhafen 1\, Breitbrunn a. Chiemsee\, Bayern\, 83254
CATEGORIES:Jugend,Mittwochs-Training
ATTACH;FMTTYPE=image/jpeg:https://scbc.de/wp-content/uploads/C529485A-8BC9-4B47-A6B5-480D1757B544-scaled.jpeg
ORGANIZER;CN="Segel-Club Breitbrunn-Chiemsee (SCBC)":MAILTO:info@scbc.de
END:VEVENT
BEGIN:VEVENT
DTSTART;TZID=Europe/Berlin:20260506T153000
DTEND;TZID=Europe/Berlin:20260506T180000
DTSTAMP:20260420T211033
CREATED:20260324T121118Z
LAST-MODIFIED:20260401T090458Z
UID:10000955-1778081400-1778090400@scbc.de
SUMMARY:Schnuppersegeln (Kinder & Jugendliche)
DESCRIPTION:Jeden erstem Mittwoch im Monat veranstalten wir ein “Schnuppersegeln”. Wir erklären und zeigen euch alles\, sodass ihr am kommenden Mittwoch mit der Gruppe mitfahren könnt. \nFür das Schnuppersegeln ist keine SCBC Mitgliedschaft notwendig – wir bitten jedoch um vorherige Anmeldung.  \nDer Ziel unseres Vereins ist die Förderung des Breitensports “Segeln”. Genau deshalb haben wir uns dazu entschieden\, regelmäßige Trainings für alle ortsansässigen Kinder und Jugendlichen zu veranstalten\, die mehr Routine und Sicherheit auf dem Wasser bekommen wollen.  \nMehr InfosZur Anmeldung
URL:https://scbc.de/event/schnuppersegeln-kinder-jugendliche-2/
LOCATION:Gemeindehafen Breitbrunn\, Segelhafen 1\, Breitbrunn a. Chiemsee\, Bayern\, 83254
CATEGORIES:Jugend,Schnuppersegeln
ATTACH;FMTTYPE=image/jpeg:https://scbc.de/wp-content/uploads/IMG_3025.jpg
ORGANIZER;CN="Segel-Club Breitbrunn-Chiemsee (SCBC)":MAILTO:info@scbc.de
END:VEVENT
BEGIN:VEVENT
DTSTART;TZID=Europe/Berlin:20260509T100000
DTEND;TZID=Europe/Berlin:20260509T170000
DTSTAMP:20260420T211033
CREATED:20251203T141928Z
LAST-MODIFIED:20260402T174853Z
UID:10000988-1778320800-1778346000@scbc.de
SUMMARY:Trainingstag für alle Kielboote - Live Slow\, Sail FASTER!
DESCRIPTION:Wir organisieren einen Trainingstag für alle sportlich interessierten Segler. Ob ihr mit dem eurem eigenen Boot\, unserer Delphia oder dem Neuzugang im Club\, dem Kielzugvogel\, teilnehmen wollt\, ist dabei egal. \nIn einer kleinen Gruppe kümmern wir uns um all die kleinen Details\, die uns beim Segeln schneller machen: Segeltrimm\, Gewichtstrimm\, saubere Manöver & Regatta-Übungen. Unser Motto „Sail Fast\, Live Slow“ heißt an diesem Tag „Live Slow\, Sail Faster“! \nTrainingsinhalte sind: \n\nDie eigenen Segel optimal einstellen\, vom Unterliek zum Baumniederholer bis zum Achterstag\nOptimaler Gewichtstrimm – wann sitze ich wo im Boot?\nManövertraining: Sauber & zügig wenden und halsen\nRegattatraining: Schnell starten\, sauber um die Tonnen\n\nDas Training richtet sich an alle SCBC-Mitglieder\, insbesondere die an unseren Abendregatten oder der Chiemsee-Meisterschaft teilnehmen und dabei schneller werden wollen. Zum Training bauen wir einen kleinen Regatta-Kurs auf. \nWährend des Segeltages gibt der Trainer mit dem Motorboot immer wieder Tipps. Freut euch auf einen lehrreichen Tag mit Gleichgesinnten. \nWir freuen uns auf eure Teilnahme und einen sportlichen und lehrreichen Tag auf dem Wasser. \nZur Anmeldung
URL:https://scbc.de/event/trainingstag-fuer-alle-kielboote-live-slow-sail-faster-3/
LOCATION:Gemeindehafen Breitbrunn\, Segelhafen 1\, Breitbrunn a. Chiemsee\, Bayern\, 83254
CATEGORIES:Erwachsene,Kielboot-Training
ATTACH;FMTTYPE=image/webp:https://scbc.de/wp-content/uploads/87ad5b13-4262-47e4-8f43-ffb582ac2494.webp
ORGANIZER;CN="Segel-Club Breitbrunn-Chiemsee (SCBC)":MAILTO:info@scbc.de
END:VEVENT
BEGIN:VEVENT
DTSTART;TZID=Europe/Berlin:20260509T100000
DTEND;TZID=Europe/Berlin:20260509T170000
DTSTAMP:20260420T211033
CREATED:20251203T143340Z
LAST-MODIFIED:20260331T221331Z
UID:10000995-1778320800-1778346000@scbc.de
SUMMARY:Wasserarbeit-Grundkurs
DESCRIPTION:Die Wasserarbeit während einer Regatta ist eine der wichtigsten Aufgaben unseres Vereins. \nDamit alle Helfer wissen\, was Sie auf dem Wasser erwartet\, wollen wir einen kleinen Grundkurs zu diesem Thema veranstalten. \n\nWelche Regatta-Typen gibt es?\nWie wirkt sich die Bootsklasse auf die Arbeit des Bojenlegers aus?\nWie\, Wo und Wann lege ich die Boje?\nWie verhole ich die Boje?\nWie gehe ich mit Bahnverkürzungen um?\nWie kommuniziere ich mit dem Wettfahrtleiter\, anderen Bojenlegern?\nWas ist im Notfall zu tun?\n\nDiese und viele weitere Fragen werden im theoretischen und praktischen erklärt und geübt. \nDer Grundkurs ist kostenlos. Wir bitten jedoch um Anmeldung unter „Mein SCBC“
URL:https://scbc.de/event/wasserarbeit-grundkurs/
LOCATION:Gemeindehafen Breitbrunn\, Segelhafen 1\, Breitbrunn a. Chiemsee\, Bayern\, 83254
CATEGORIES:Erwachsene
ATTACH;FMTTYPE=image/jpeg:https://scbc.de/wp-content/uploads/IMG_8883-2-scaled.jpg
ORGANIZER;CN="Segel-Club Breitbrunn-Chiemsee (SCBC)":MAILTO:info@scbc.de
END:VEVENT
END:VCALENDAR