BEGIN:VCALENDAR
VERSION:2.0
PRODID:-//SCBC - ECPv6.15.20//NONSGML v1.0//EN
CALSCALE:GREGORIAN
METHOD:PUBLISH
X-ORIGINAL-URL:https://scbc.de
X-WR-CALDESC:Veranstaltungen für SCBC
REFRESH-INTERVAL;VALUE=DURATION:PT1H
X-Robots-Tag:noindex
X-PUBLISHED-TTL:PT1H
BEGIN:VTIMEZONE
TZID:Europe/Berlin
BEGIN:DAYLIGHT
TZOFFSETFROM:+0100
TZOFFSETTO:+0200
TZNAME:CEST
DTSTART:20250330T010000
END:DAYLIGHT
BEGIN:STANDARD
TZOFFSETFROM:+0200
TZOFFSETTO:+0100
TZNAME:CET
DTSTART:20251026T010000
END:STANDARD
BEGIN:DAYLIGHT
TZOFFSETFROM:+0100
TZOFFSETTO:+0200
TZNAME:CEST
DTSTART:20260329T010000
END:DAYLIGHT
BEGIN:STANDARD
TZOFFSETFROM:+0200
TZOFFSETTO:+0100
TZNAME:CET
DTSTART:20261025T010000
END:STANDARD
BEGIN:DAYLIGHT
TZOFFSETFROM:+0100
TZOFFSETTO:+0200
TZNAME:CEST
DTSTART:20270328T010000
END:DAYLIGHT
BEGIN:STANDARD
TZOFFSETFROM:+0200
TZOFFSETTO:+0100
TZNAME:CET
DTSTART:20271031T010000
END:STANDARD
END:VTIMEZONE
BEGIN:VEVENT
DTSTART;TZID=Europe/Berlin:20260422T153000
DTEND;TZID=Europe/Berlin:20260422T180000
DTSTAMP:20260420T212533
CREATED:20251203T101758Z
LAST-MODIFIED:20260420T150822Z
UID:10001028-1776871800-1776880800@scbc.de
SUMMARY:Mittwochs-Training (Kinder & Jugendliche)
DESCRIPTION:Der Segel-Club Breitbrunn-Chiemsee (SCBC) e.V. veranstaltet jeden Mittwoch (in der Nebensaison jeden zweiten Mittwoch) ab 15:30 Uhr ein gemeinsames Training für Kinder und Jugendliche. Wir segeln mit großen und kleinen Schiffen\, gehen Segeltheorie und Knoten durch\, reparieren Schiffe\, machen gemeinsam Sport oder erleben andere tolle Dinge gemeinsam. Eine Anmeldung ist nicht erforderlich – kommt einfach vorbei! \nAchtung: Für das Mittwochs-Training ist eine SCBC Mitgliedschaft notwendig. \nSchnuppersegeln (für alle\, die noch nie dabei waren): Jeden ersten Mittwoch im Monat veranstalten wir ein “Schnuppersegeln”. Wir erklären und zeigen euch alles\, sodass ihr am kommenden Mittwoch mit der Gruppe mitfahren könnt. Sucht in unserem Kalender nach „Schnuppersegeln“ und meldet euch an. Wir freuen uns auf euch!
URL:https://scbc.de/event/mittwochs-training-kinder-jugendliche-2/2026-04-22/
LOCATION:Gemeindehafen Breitbrunn\, Segelhafen 1\, Breitbrunn a. Chiemsee\, Bayern\, 83254
CATEGORIES:Jugend,Mittwochs-Training
ATTACH;FMTTYPE=image/jpeg:https://scbc.de/wp-content/uploads/C529485A-8BC9-4B47-A6B5-480D1757B544-scaled.jpeg
ORGANIZER;CN="Segel-Club Breitbrunn-Chiemsee (SCBC)":MAILTO:info@scbc.de
END:VEVENT
BEGIN:VEVENT
DTSTART;TZID=Europe/Berlin:20260429T153000
DTEND;TZID=Europe/Berlin:20260429T180000
DTSTAMP:20260420T212533
CREATED:20251001T073828Z
LAST-MODIFIED:20260331T211046Z
UID:10000846-1777476600-1777485600@scbc.de
SUMMARY:Mittwochs-Training
DESCRIPTION:Der Segel-Club Breitbrunn-Chiemsee (SCBC) e.V. veranstaltet jeden Mittwoch (in der Nebensaison jeden zweiten Mittwoch) ab 15:30 Uhr ein gemeinsames Training für Kinder und Jugendliche. Wir segeln mit großen und kleinen Schiffen\, gehen Segeltheorie und Knoten durch\, reparieren Schiffe\, machen gemeinsam Sport oder erleben andere tolle Dinge gemeinsam. Eine Anmeldung ist nicht erforderlich – kommt einfach vorbei! \nAchtung: Für das Mittwochs-Training ist eine SCBC Mitgliedschaft notwendig.Alle Infos zur Mitgliedschaft findet ihr hier. \nSchnuppersegeln (für alle\, die noch nie dabei waren): Jeden ersten Mittwoch im Monat veranstalten wir ein “Schnuppersegeln”. Wir erklären und zeigen euch alles\, sodass ihr am kommenden Mittwoch mit der Gruppe mitfahren könnt. Sucht in unserem Kalender nach „Schnuppersegeln“ und meldet euch an. Wir freuen uns auf euch!
URL:https://scbc.de/event/mittwochs-training/2026-04-29/
LOCATION:Gemeindehafen Breitbrunn\, Segelhafen 1\, Breitbrunn a. Chiemsee\, Bayern\, 83254
CATEGORIES:Jugend,Mittwochs-Training
ATTACH;FMTTYPE=image/jpeg:https://scbc.de/wp-content/uploads/24-02-15_-2024-Opti-Fasching_CVT_43.jpeg
ORGANIZER;CN="Segel-Club Breitbrunn-Chiemsee (SCBC)":MAILTO:info@scbc.de
END:VEVENT
END:VCALENDAR